BEGIN:VCALENDAR
PRODID:-//eluceo/ical//2.0/EN
VERSION:2.0
CALSCALE:GREGORIAN
BEGIN:VEVENT
UID:c6b419fd530f215b52acb19f79e3c0b5
DTSTAMP:20260420T130736Z
SUMMARY:Präsenzapero in Engelberg
DESCRIPTION:Website: http://www.hotel-engelberg.ch\nSprekers: Alle sind spo
 ntan und ohne Anmeldung Willkommen!
URL:https://rotary-club-obwalden.ch/nl/agenda/show/206647
DTSTART;TZID=Europe/Zurich:20260303T180000
DTEND;TZID=Europe/Zurich:20260303T190000
LOCATION:Hotel Engelberg\, Engelberg\, Dorfstrasse 14\, 6390 Engelberg
CATEGORIES:Rotary
END:VEVENT
BEGIN:VTIMEZONE
TZID:Europe/Zurich
BEGIN:STANDARD
DTSTART:20260303T180000
TZNAME:CET
TZOFFSETTO:+0100
TZOFFSETFROM:+0100
END:STANDARD
END:VTIMEZONE
END:VCALENDAR
