BEGIN:VCALENDAR
PRODID:-//eluceo/ical//2.0/EN
VERSION:2.0
CALSCALE:GREGORIAN
BEGIN:VEVENT
UID:8a7ac010da291e65b954e16ba3d6c77a
DTSTAMP:20260421T142840Z
SUMMARY:Präsenzapero in Engelberg
DESCRIPTION:Vefsíða: http://www.hotel-engelberg.ch\nFyrirlesari(ar): Alle
  sind spontan und ohne Anmeldung Willkommen!
URL:https://rotary-club-obwalden.ch/is/agenda/show/206651
DTSTART;TZID=Europe/Zurich:20260331T180000
DTEND;TZID=Europe/Zurich:20260331T190000
LOCATION:Hotel Engelberg\, Engelberg\, Dorfstrasse 14\, 6390 Engelberg
CATEGORIES:Rotary
END:VEVENT
BEGIN:VTIMEZONE
TZID:Europe/Zurich
BEGIN:DAYLIGHT
DTSTART:20260331T180000
TZNAME:CEST
TZOFFSETTO:+0200
TZOFFSETFROM:+0200
END:DAYLIGHT
END:VTIMEZONE
END:VCALENDAR
