BEGIN:VCALENDAR
PRODID:-//eluceo/ical//2.0/EN
VERSION:2.0
CALSCALE:GREGORIAN
BEGIN:VEVENT
UID:407215bab71790623f93a2a88422a911
DTSTAMP:20260419T152102Z
SUMMARY:Präsenzapero in Engelberg
DESCRIPTION:Site internet: http://www.hotel-engelberg.ch\nConférencier(s):
  Alle sind spontan und ohne Anmeldung Willkommen!
URL:https://rotary-club-obwalden.ch/fr/agenda/show/206646
DTSTART;TZID=Europe/Zurich:20260224T180000
DTEND;TZID=Europe/Zurich:20260224T190000
LOCATION:Hotel Engelberg\, Engelberg\, Dorfstrasse 14\, 6390 Engelberg
CATEGORIES:Rotary
END:VEVENT
BEGIN:VTIMEZONE
TZID:Europe/Zurich
BEGIN:STANDARD
DTSTART:20260224T180000
TZNAME:CET
TZOFFSETTO:+0100
TZOFFSETFROM:+0100
END:STANDARD
END:VTIMEZONE
END:VCALENDAR
