BEGIN:VCALENDAR
PRODID:-//eluceo/ical//2.0/EN
VERSION:2.0
CALSCALE:GREGORIAN
BEGIN:VEVENT
UID:35ef4fb37f7aeaf55fd062ff7d7e3956
DTSTAMP:20260420T142610Z
SUMMARY:E-Meeting
DESCRIPTION:
URL:https://rotary-club-obwalden.ch/fr/agenda/show/112177
DTSTART;TZID=Europe/Zurich:20200515T123000
DTEND;TZID=Europe/Zurich:20200515T140000
LOCATION:-
CATEGORIES:Rotary
END:VEVENT
BEGIN:VTIMEZONE
TZID:Europe/Zurich
BEGIN:DAYLIGHT
DTSTART:20200515T123000
TZNAME:CEST
TZOFFSETTO:+0200
TZOFFSETFROM:+0200
END:DAYLIGHT
END:VTIMEZONE
END:VCALENDAR
