BEGIN:VCALENDAR
PRODID:-//eluceo/ical//2.0/EN
VERSION:2.0
CALSCALE:GREGORIAN
BEGIN:VEVENT
UID:f22df83b7ae47ead6ad448e1b3132bc1
DTSTAMP:20260421T112918Z
SUMMARY:Partneranlass "Klangfarben"
DESCRIPTION:Jörg Niederberger\, Maler und Carmen Würsch\, Sängerin\, 
 entführen uns nach dem Nachtessen in die Klangwelt der Farben. Nehmen wir
  uns die Zeit\, den Raum und die Stille diese ungewöhnliche\, künstleris
 che Zusammenarbeit von Kunstschaffenden zu geniessen.\nOrador(es): Jörg N
 iederberger\, Maler und Carmen Würsch\, Sängerin 
URL:https://rotary-club-obwalden.ch/es/agenda/show/60198
DTSTART;TZID=Europe/Zurich:20160421T190000
DTEND;TZID=Europe/Zurich:20160421T230000
LOCATION:Hotel Kreuz\, Sachseln
CATEGORIES:Rotary
END:VEVENT
BEGIN:VTIMEZONE
TZID:Europe/Zurich
BEGIN:DAYLIGHT
DTSTART:20160421T190000
TZNAME:CEST
TZOFFSETTO:+0200
TZOFFSETFROM:+0200
END:DAYLIGHT
END:VTIMEZONE
END:VCALENDAR
