BEGIN:VCALENDAR
PRODID:-//eluceo/ical//2.0/EN
VERSION:2.0
CALSCALE:GREGORIAN
BEGIN:VEVENT
UID:24ce6d587d946eb612c54c5f07b89bf2
DTSTAMP:20260421T085602Z
SUMMARY:Partneranlass  "75 Jahre Fanger AG "
DESCRIPTION:Die Firma Fanger AG kann dieses Jahr ihr 75 – jähriges Beste
 hen feiern. Dieser\, von Paul Fanger im Jahre 1940 gegründete Betrieb hat
  sich zum national tätigen Unternehmen weiterentwickelt. Mit den Geschäf
 ts-zweigen Elementwerk\, Kranbetrieb und Betonwerk ist die vielseitige Fir
 ma aus unserem Kanton nicht mehr wegzudenken.\n\nAnlässlich dieses Jubil
 äums zeigt uns die Familie Fanger den interessanten Betrieb.\n\nAuf Eure 
 Teilnahme freue ich mich.\n\nLiebe Grüsse\n\nRuedi Hinter\n\n \n\n \n\n
  \nOrador(es): Firma Fanger AG
URL:https://rotary-club-obwalden.ch/es/agenda/show/53989
DTSTART;TZID=Europe/Zurich:20150924T183000
DTEND;TZID=Europe/Zurich:20150924T230000
LOCATION:Betonwerk Fanger AG\, Schwerzbachstrasse\, Giswil
CATEGORIES:Rotary
END:VEVENT
BEGIN:VTIMEZONE
TZID:Europe/Zurich
BEGIN:DAYLIGHT
DTSTART:20150924T183000
TZNAME:CEST
TZOFFSETTO:+0200
TZOFFSETFROM:+0200
END:DAYLIGHT
END:VTIMEZONE
END:VCALENDAR
