BEGIN:VCALENDAR
PRODID:-//eluceo/ical//2.0/EN
VERSION:2.0
CALSCALE:GREGORIAN
BEGIN:VEVENT
UID:33513d1e1e75e746f84e83f0dfbd7974
DTSTAMP:20260421T123202Z
SUMMARY:Jahresversammlung
DESCRIPTION:Orador(es): alle
URL:https://rotary-club-obwalden.ch/es/agenda/show/49531
DTSTART;TZID=Europe/Zurich:20150626T121500
DTEND;TZID=Europe/Zurich:20150626T140000
LOCATION:Hotel Belvoir
CATEGORIES:Rotary
END:VEVENT
BEGIN:VTIMEZONE
TZID:Europe/Zurich
BEGIN:DAYLIGHT
DTSTART:20150626T121500
TZNAME:CEST
TZOFFSETTO:+0200
TZOFFSETFROM:+0200
END:DAYLIGHT
END:VTIMEZONE
END:VCALENDAR
