BEGIN:VCALENDAR
PRODID:-//eluceo/ical//2.0/EN
VERSION:2.0
CALSCALE:GREGORIAN
BEGIN:VEVENT
UID:b7225988d84d369ce449f31cebd57556
DTSTAMP:20260421T094832Z
SUMMARY:Partneranlass Toni's Reisebericht (mit Gartenbesuch bei jedem Wette
 r)
DESCRIPTION:Orador(es): Toni Durrer
URL:https://rotary-club-obwalden.ch/es/agenda/show/48983
DTSTART;TZID=Europe/Zurich:20150416T170000
DTEND;TZID=Europe/Zurich:20150416T220000
LOCATION:Toni Durrer's Garten (17:00) + Hotel Belvoir (18:30)
CATEGORIES:Rotary
END:VEVENT
BEGIN:VTIMEZONE
TZID:Europe/Zurich
BEGIN:DAYLIGHT
DTSTART:20150416T170000
TZNAME:CEST
TZOFFSETTO:+0200
TZOFFSETFROM:+0200
END:DAYLIGHT
END:VTIMEZONE
END:VCALENDAR
