BEGIN:VCALENDAR
PRODID:-//eluceo/ical//2.0/EN
VERSION:2.0
CALSCALE:GREGORIAN
BEGIN:VEVENT
UID:0d6a0af2544874659784bf51506dc59d
DTSTAMP:20260421T085819Z
SUMMARY:Governor Judith Lauber zu Besuch
DESCRIPTION:Orador(es): Governor Judith Lauber
URL:https://rotary-club-obwalden.ch/es/agenda/show/48872
DTSTART;TZID=Europe/Zurich:20160108T121500
DTEND;TZID=Europe/Zurich:20160108T140000
LOCATION:Hotel Belvoir
CATEGORIES:Rotary
END:VEVENT
BEGIN:VTIMEZONE
TZID:Europe/Zurich
BEGIN:STANDARD
DTSTART:20160108T121500
TZNAME:CET
TZOFFSETTO:+0100
TZOFFSETFROM:+0100
END:STANDARD
END:VTIMEZONE
END:VCALENDAR
