BEGIN:VCALENDAR
PRODID:-//eluceo/ical//2.0/EN
VERSION:2.0
CALSCALE:GREGORIAN
BEGIN:VEVENT
UID:4d58014c9223421e06239a024fc57273
DTSTAMP:20260421T090343Z
SUMMARY:Médecins Sans Frontiéres - Erfahrungsbericht aus Niger
DESCRIPTION:Orador(es): Patricia Löw
URL:https://rotary-club-obwalden.ch/es/agenda/show/43647
DTSTART;TZID=Europe/Zurich:20140829T121500
DTEND;TZID=Europe/Zurich:20140829T140000
LOCATION:Hotel Belvoir
CATEGORIES:Rotary
END:VEVENT
BEGIN:VTIMEZONE
TZID:Europe/Zurich
BEGIN:DAYLIGHT
DTSTART:20140829T121500
TZNAME:CEST
TZOFFSETTO:+0200
TZOFFSETFROM:+0200
END:DAYLIGHT
END:VTIMEZONE
END:VCALENDAR
