BEGIN:VCALENDAR
PRODID:-//eluceo/ical//2.0/EN
VERSION:2.0
CALSCALE:GREGORIAN
BEGIN:VEVENT
UID:b290ce471363dee91776a09775fcba52
DTSTAMP:20260421T094636Z
SUMMARY:Gesprächslunch
DESCRIPTION:Orador(es): Alle
URL:https://rotary-club-obwalden.ch/es/agenda/show/39280
DTSTART;TZID=Europe/Zurich:20140620T121500
DTEND;TZID=Europe/Zurich:20140620T133000
LOCATION:Hotel Belvoir
CATEGORIES:Rotary
END:VEVENT
BEGIN:VTIMEZONE
TZID:Europe/Zurich
BEGIN:DAYLIGHT
DTSTART:20140620T121500
TZNAME:CEST
TZOFFSETTO:+0200
TZOFFSETFROM:+0200
END:DAYLIGHT
END:VTIMEZONE
END:VCALENDAR
