BEGIN:VCALENDAR
PRODID:-//eluceo/ical//2.0/EN
VERSION:2.0
CALSCALE:GREGORIAN
BEGIN:VEVENT
UID:dd40d3e022416824d7efe26a4fb08005
DTSTAMP:20260421T123505Z
SUMMARY:Präsenzapero in Engelberg
DESCRIPTION:Sitio web: http://www.hotel-engelberg.ch\nOrador(es): Alle sind
  spontan und ohne Anmeldung Willkommen!
URL:https://rotary-club-obwalden.ch/es/agenda/show/197482
DTSTART;TZID=Europe/Zurich:20251021T180000
DTEND;TZID=Europe/Zurich:20251021T190000
LOCATION:Hotel Engelberg\, Engelberg\, Dorfstrasse 14\, 6390 Engelberg
CATEGORIES:Rotary
END:VEVENT
BEGIN:VTIMEZONE
TZID:Europe/Zurich
BEGIN:DAYLIGHT
DTSTART:20251021T180000
TZNAME:CEST
TZOFFSETTO:+0200
TZOFFSETFROM:+0200
END:DAYLIGHT
END:VTIMEZONE
END:VCALENDAR
