BEGIN:VCALENDAR
PRODID:-//eluceo/ical//2.0/EN
VERSION:2.0
CALSCALE:GREGORIAN
BEGIN:VEVENT
UID:a84c00fa2d5cb9c509c4f16ff6b48d6f
DTSTAMP:20260420T022853Z
SUMMARY:Rotary Musikpreis 2024
DESCRIPTION:Sitio web: https://www.rotary-musikpreis.ch/\nOrador(es): 
URL:https://rotary-club-obwalden.ch/es/agenda/show/171781
DTSTART;TZID=Europe/Zurich:20240127T083000
DTEND;TZID=Europe/Zurich:20240127T190000
LOCATION:Schulhausareal Sarnen: Aula Cher / alte Turnhalle
CATEGORIES:Rotary
END:VEVENT
BEGIN:VTIMEZONE
TZID:Europe/Zurich
BEGIN:STANDARD
DTSTART:20240127T083000
TZNAME:CET
TZOFFSETTO:+0100
TZOFFSETFROM:+0100
END:STANDARD
END:VTIMEZONE
END:VCALENDAR
