BEGIN:VCALENDAR
PRODID:-//eluceo/ical//2.0/EN
VERSION:2.0
CALSCALE:GREGORIAN
BEGIN:VEVENT
UID:effa90f22d7970bbf57ceee2b25e5d78
DTSTAMP:20260425T200205Z
SUMMARY:Vorstellung JUKO-Pavillon\, Sarnen
DESCRIPTION:Referenten/innen: Lea Häfliger und Julian Rogger
URL:https://rotary-club-obwalden.ch/de/agenda/show/37560
DTSTART;TZID=Europe/Zurich:20140228T121500
DTEND;TZID=Europe/Zurich:20140228T140000
LOCATION:Hotel Belvoir
CATEGORIES:Rotary
END:VEVENT
BEGIN:VTIMEZONE
TZID:Europe/Zurich
BEGIN:STANDARD
DTSTART:20140228T121500
TZNAME:CET
TZOFFSETTO:+0100
TZOFFSETFROM:+0100
END:STANDARD
END:VTIMEZONE
END:VCALENDAR
