BEGIN:VCALENDAR
PRODID:-//eluceo/ical//2.0/EN
VERSION:2.0
CALSCALE:GREGORIAN
BEGIN:VEVENT
UID:eacb000a3c5c1b7c05f7dcf4806da381
DTSTAMP:20260424T101942Z
SUMMARY:Müllerei zwischen Ackerscholle und Staubexplosion
DESCRIPTION:Govornik(ci): Franz Suter
URL:https://rotary-club-obwalden.ch/bs/agenda/show/44370
DTSTART;TZID=Europe/Zurich:20140926T121500
DTEND;TZID=Europe/Zurich:20140926T140000
LOCATION:Hotel Belvoir
CATEGORIES:Rotary
END:VEVENT
BEGIN:VTIMEZONE
TZID:Europe/Zurich
BEGIN:DAYLIGHT
DTSTART:20140926T121500
TZNAME:CEST
TZOFFSETTO:+0200
TZOFFSETFROM:+0200
END:DAYLIGHT
END:VTIMEZONE
END:VCALENDAR
