BEGIN:VCALENDAR
PRODID:-//eluceo/ical//2.0/EN
VERSION:2.0
CALSCALE:GREGORIAN
BEGIN:VEVENT
UID:21da324195f7bd308e24012160e9b203
DTSTAMP:20260422T092735Z
SUMMARY:Lunch Dessertbuffet Alex und Mike
DESCRIPTION:Govornik(ci): Zum Geburtstag von Mike und in der Tradition von 
 Alex Höchli freuen wir uns auf ein prächtiges Dessertbuffet
URL:https://rotary-club-obwalden.ch/bs/agenda/show/42059
DTSTART;TZID=Europe/Zurich:20140808T121500
DTEND;TZID=Europe/Zurich:20140808T140000
LOCATION:Hotel Belvoir
CATEGORIES:Rotary
END:VEVENT
BEGIN:VTIMEZONE
TZID:Europe/Zurich
BEGIN:DAYLIGHT
DTSTART:20140808T121500
TZNAME:CEST
TZOFFSETTO:+0200
TZOFFSETFROM:+0200
END:DAYLIGHT
END:VTIMEZONE
END:VCALENDAR
