BEGIN:VCALENDAR
PRODID:-//eluceo/ical//2.0/EN
VERSION:2.0
CALSCALE:GREGORIAN
BEGIN:VEVENT
UID:0313a817b054bd054a87450b3460e662
DTSTAMP:20260424T101557Z
SUMMARY:Lunch\, Jahresversammlung
DESCRIPTION:Govornik(ci): Präs. Roland Michel
URL:https://rotary-club-obwalden.ch/bs/agenda/show/39281
DTSTART;TZID=Europe/Zurich:20140627T120000
DTEND;TZID=Europe/Zurich:20140627T140000
LOCATION:Hotel Belvoir
CATEGORIES:Rotary
END:VEVENT
BEGIN:VTIMEZONE
TZID:Europe/Zurich
BEGIN:DAYLIGHT
DTSTART:20140627T120000
TZNAME:CEST
TZOFFSETTO:+0200
TZOFFSETFROM:+0200
END:DAYLIGHT
END:VTIMEZONE
END:VCALENDAR
