BEGIN:VCALENDAR
PRODID:-//eluceo/ical//2.0/EN
VERSION:2.0
CALSCALE:GREGORIAN
BEGIN:VEVENT
UID:cec36eded814ad905fb3a9f5a2bf157f
DTSTAMP:20260422T102652Z
SUMMARY:Lunch\, Die Schweiz im Steuertaifun
DESCRIPTION:Rot. Viktor Bucher\nGovornik(ci): Rot. Viktor Bucher
URL:https://rotary-club-obwalden.ch/bs/agenda/show/39277
DTSTART;TZID=Europe/Zurich:20140523T121500
DTEND;TZID=Europe/Zurich:20140523T134500
LOCATION:Hotel Belvoir
CATEGORIES:Rotary
END:VEVENT
BEGIN:VTIMEZONE
TZID:Europe/Zurich
BEGIN:DAYLIGHT
DTSTART:20140523T121500
TZNAME:CEST
TZOFFSETTO:+0200
TZOFFSETFROM:+0200
END:DAYLIGHT
END:VTIMEZONE
END:VCALENDAR
