BEGIN:VCALENDAR
PRODID:-//eluceo/ical//2.0/EN
VERSION:2.0
CALSCALE:GREGORIAN
BEGIN:VEVENT
UID:0eddc80a8cb89f46cda5b9cd852d00a5
DTSTAMP:20260422T102215Z
SUMMARY:Lunch\, Divisionär Bernhard Müller\, Wieso ja zum Gripen?
DESCRIPTION:Govornik(ci): Divisionär Bernhard Müller\, Chef Einsatz Luftw
 affe
URL:https://rotary-club-obwalden.ch/bs/agenda/show/39273
DTSTART;TZID=Europe/Zurich:20140425T121500
DTEND;TZID=Europe/Zurich:20140425T134500
LOCATION:Hotel Belvoir
CATEGORIES:Rotary
END:VEVENT
BEGIN:VTIMEZONE
TZID:Europe/Zurich
BEGIN:DAYLIGHT
DTSTART:20140425T121500
TZNAME:CEST
TZOFFSETTO:+0200
TZOFFSETFROM:+0200
END:DAYLIGHT
END:VTIMEZONE
END:VCALENDAR
