BEGIN:VCALENDAR
PRODID:-//eluceo/ical//2.0/EN
VERSION:2.0
CALSCALE:GREGORIAN
BEGIN:VEVENT
UID:3ed1a69d4671b276fb0616b863bd6fdd
DTSTAMP:20260424T092731Z
SUMMARY:Gesprächslunch
DESCRIPTION:
URL:https://rotary-club-obwalden.ch/bs/agenda/show/37553
DTSTART;TZID=Europe/Zurich:20140110T121500
DTEND;TZID=Europe/Zurich:20140110T140000
LOCATION:Hotel Belvoir
CATEGORIES:Rotary
END:VEVENT
BEGIN:VTIMEZONE
TZID:Europe/Zurich
BEGIN:STANDARD
DTSTART:20140110T121500
TZNAME:CET
TZOFFSETTO:+0100
TZOFFSETFROM:+0100
END:STANDARD
END:VTIMEZONE
END:VCALENDAR
