BEGIN:VCALENDAR
PRODID:-//eluceo/ical//2.0/EN
VERSION:2.0
CALSCALE:GREGORIAN
BEGIN:VEVENT
UID:6954bd1f0724aab30d156c65baa35ee2
DTSTAMP:20260424T113908Z
SUMMARY:Leister - nicht nur heisse Luft!
DESCRIPTION:Govornik(ci): Bruno von Wyl\, CTO\, Mitglied der Geschäftsleit
 ung der Leister AG
URL:https://rotary-club-obwalden.ch/bs/agenda/show/105243
DTSTART;TZID=Europe/Zurich:20191025T121500
DTEND;TZID=Europe/Zurich:20191025T140000
LOCATION:Gasthaus Engel\, Sachseln
CATEGORIES:Rotary
END:VEVENT
BEGIN:VTIMEZONE
TZID:Europe/Zurich
BEGIN:DAYLIGHT
DTSTART:20191025T121500
TZNAME:CEST
TZOFFSETTO:+0200
TZOFFSETFROM:+0200
END:DAYLIGHT
END:VTIMEZONE
END:VCALENDAR
