BEGIN:VCALENDAR
PRODID:-//eluceo/ical//2.0/EN
VERSION:2.0
CALSCALE:GREGORIAN
BEGIN:VEVENT
UID:db41f0bbdec2fdcd365ad2745785246a
DTSTAMP:20260424T132353Z
SUMMARY:Besuch des Governor
DESCRIPTION:
URL:https://rotary-club-obwalden.ch/bs/agenda/show/105140
DTSTART;TZID=Europe/Zurich:20190920T121500
DTEND;TZID=Europe/Zurich:20190920T140000
LOCATION:Gasthaus Engel\, Sachseln
CATEGORIES:Rotary
END:VEVENT
BEGIN:VTIMEZONE
TZID:Europe/Zurich
BEGIN:DAYLIGHT
DTSTART:20190920T121500
TZNAME:CEST
TZOFFSETTO:+0200
TZOFFSETFROM:+0200
END:DAYLIGHT
END:VTIMEZONE
END:VCALENDAR
